BEGIN:VCALENDAR
VERSION:2.0
PRODID:-//Lutheran Church of New Zealand - ECPv6.6.2//NONSGML v1.0//EN
CALSCALE:GREGORIAN
METHOD:PUBLISH
X-ORIGINAL-URL:https://www.lutheran.org.nz
X-WR-CALDESC:Events for Lutheran Church of New Zealand
REFRESH-INTERVAL;VALUE=DURATION:PT1H
X-Robots-Tag:noindex
X-PUBLISHED-TTL:PT1H
BEGIN:VTIMEZONE
TZID:Pacific/Auckland
BEGIN:STANDARD
TZOFFSETFROM:+1300
TZOFFSETTO:+1200
TZNAME:NZST
DTSTART:20250405T140000
END:STANDARD
BEGIN:DAYLIGHT
TZOFFSETFROM:+1200
TZOFFSETTO:+1300
TZNAME:NZDT
DTSTART:20250927T140000
END:DAYLIGHT
END:VTIMEZONE
BEGIN:VEVENT
DTSTART;TZID=Pacific/Auckland:20251011T100000
DTEND;TZID=Pacific/Auckland:20251013T170000
DTSTAMP:20260423T031626
CREATED:20250126T220217Z
LAST-MODIFIED:20250918T044344Z
UID:10051-1760176800-1760374800@www.lutheran.org.nz
SUMMARY:Council of Synod meeting
DESCRIPTION:Council of Synod meet bi-monthly in 2025. \nThere are two face to face meetings in the year. \nAgenda and meeting papers are provided to council members one week prior to the meeting. \nThis meeting is Face to Face and will be held at St Pauls Lutheran Church in Wellington from Saturday 11 to Monday 13 October 2025.
URL:https://www.lutheran.org.nz/event/council-of-synod-meeting-6/
LOCATION:St Paul’s Lutheran Church Wellington\, 12 King Street\, Mt Cook\, Wellington\, 6021\, New Zealand
CATEGORIES:Meeting
ORGANIZER;CN="Andrew Marr":MAILTO:andrew.marr@lca.org.au
END:VEVENT
END:VCALENDAR