BEGIN:VCALENDAR
VERSION:2.0
PRODID:-//Lutheran Church of New Zealand - ECPv6.6.2//NONSGML v1.0//EN
CALSCALE:GREGORIAN
METHOD:PUBLISH
X-ORIGINAL-URL:https://www.lutheran.org.nz
X-WR-CALDESC:Events for Lutheran Church of New Zealand
REFRESH-INTERVAL;VALUE=DURATION:PT1H
X-Robots-Tag:noindex
X-PUBLISHED-TTL:PT1H
BEGIN:VTIMEZONE
TZID:UTC
BEGIN:STANDARD
TZOFFSETFROM:+0000
TZOFFSETTO:+0000
TZNAME:UTC
DTSTART:20260101T000000
END:STANDARD
TZID:Pacific/Auckland
BEGIN:STANDARD
TZOFFSETFROM:+1300
TZOFFSETTO:+1200
TZNAME:NZST
DTSTART:20260404T140000
END:STANDARD
BEGIN:DAYLIGHT
TZOFFSETFROM:+1200
TZOFFSETTO:+1300
TZNAME:NZDT
DTSTART:20260926T140000
END:DAYLIGHT
END:VTIMEZONE
BEGIN:VEVENT
DTSTART;TZID=UTC:20260428T190000
DTEND;TZID=UTC:20260428T210000
DTSTAMP:20260422T143539
CREATED:20250918T055237Z
LAST-MODIFIED:20260320T010621Z
UID:10506-1777402800-1777410000@www.lutheran.org.nz
SUMMARY:LCNZ Council of Synod
DESCRIPTION:CoS meetings 2026 \nMeeting bi-monthly \nTeams (4) and Face to face (2) \nAgenda\, papers and supporting documentation in SharePoint (for members only) \nCalendar invite and teams links in Outlook/teams (for members only) \nInvites to attend/present – please ask Chairperson Rev Andy Marr
URL:https://www.lutheran.org.nz/event/lcnz-council-of-synod/
LOCATION:Teams
ORGANIZER;CN="Andrew Marr":MAILTO:andrew.marr@lca.org.au
END:VEVENT
BEGIN:VEVENT
DTSTART;TZID=UTC:20260512T190000
DTEND;TZID=UTC:20260512T193000
DTSTAMP:20260422T143539
CREATED:20250918T061334Z
LAST-MODIFIED:20250918T061334Z
UID:10520-1778612400-1778614200@www.lutheran.org.nz
SUMMARY:Gateway Gift AGM
DESCRIPTION:GGTB meetings 2026 \nMeeting bi-monthly \nTeams (4) and Face to face (2) and AGM (1) \nAgenda\, papers and supporting documentation in SharePoint (for members only) \nCalendar invite and teams links in Outlook/teams (for members only) \nInvites to attend/present – please ask Chairperson Dennis Mollet
URL:https://www.lutheran.org.nz/event/gateway-gift-agm-2/
LOCATION:Teams meetings
ORGANIZER;CN="Dennis Mollet":MAILTO:dennis.mollet@lca.org.au
END:VEVENT
BEGIN:VEVENT
DTSTART;TZID=UTC:20260512T193000
DTEND;TZID=UTC:20260512T213000
DTSTAMP:20260422T143539
CREATED:20250918T061719Z
LAST-MODIFIED:20250918T061719Z
UID:10524-1778614200-1778621400@www.lutheran.org.nz
SUMMARY:Gateway Gift Trust Board
DESCRIPTION:GGTB meetings 2026 \nMeeting bi-monthly \nTeams (4) and Face to face (2) and AGM (1) \nAgenda\, papers and supporting documentation in SharePoint (for members only) \nCalendar invite and teams links in Outlook/teams (for members only) \nInvites to attend/present – please ask Chairperson Dennis Mollet
URL:https://www.lutheran.org.nz/event/gateway-gift-trust-board-4/
LOCATION:Teams meetings
ORGANIZER;CN="Dennis Mollet":MAILTO:dennis.mollet@lca.org.au
END:VEVENT
BEGIN:VEVENT
DTSTART;TZID=Pacific/Auckland:20260609T190000
DTEND;TZID=Pacific/Auckland:20260609T213000
DTSTAMP:20260422T143539
CREATED:20250918T055359Z
LAST-MODIFIED:20250918T055359Z
UID:10508-1781031600-1781040600@www.lutheran.org.nz
SUMMARY:LCNZ Council of Synod
DESCRIPTION:CoS meetings 2026 \nMeeting bi-monthly \nTeams (4) and Face to face (2) \nAgenda\, papers and supporting documentation in SharePoint (for members only) \nCalendar invite and teams links in Outlook/teams (for members only) \nInvites to attend/present – please ask Chairperson Rev Andy Marr
URL:https://www.lutheran.org.nz/event/lcnz-council-of-synod-2/
LOCATION:Teams meetings
ORGANIZER;CN="Andrew Marr":MAILTO:andrew.marr@lca.org.au
END:VEVENT
BEGIN:VEVENT
DTSTART;TZID=Pacific/Auckland:20260714T190000
DTEND;TZID=Pacific/Auckland:20260714T213000
DTSTAMP:20260422T143539
CREATED:20250918T061557Z
LAST-MODIFIED:20250918T061557Z
UID:10522-1784055600-1784064600@www.lutheran.org.nz
SUMMARY:Gateway Gift Trust Board
DESCRIPTION:GGTB meetings 2026 \nMeeting bi-monthly \nTeams (4) and Face to face (2) and AGM (1) \nAgenda\, papers and supporting documentation in SharePoint (for members only) \nCalendar invite and teams links in Outlook/teams (for members only) \nInvites to attend/present – please ask Chairperson Dennis Mollet
URL:https://www.lutheran.org.nz/event/gateway-gift-trust-board-2/
LOCATION:Teams meetings
ORGANIZER;CN="Dennis Mollet":MAILTO:dennis.mollet@lca.org.au
END:VEVENT
BEGIN:VEVENT
DTSTART;TZID=Pacific/Auckland:20260811T190000
DTEND;TZID=Pacific/Auckland:20260811T213000
DTSTAMP:20260422T143539
CREATED:20250918T055521Z
LAST-MODIFIED:20250918T055521Z
UID:10510-1786474800-1786483800@www.lutheran.org.nz
SUMMARY:LCNZ Council of Synod
DESCRIPTION:CoS meetings 2026 \nMeeting bi-monthly \nTeams (4) and Face to face (2) \nAgenda\, papers and supporting documentation in SharePoint (for members only) \nCalendar invite and teams links in Outlook/teams (for members only) \nInvites to attend/present – please ask Chairperson Rev Andy Marr
URL:https://www.lutheran.org.nz/event/lcnz-council-of-synod-3/
LOCATION:Teams meetings
ORGANIZER;CN="Andrew Marr":MAILTO:andrew.marr@lca.org.au
END:VEVENT
BEGIN:VEVENT
DTSTART;TZID=Pacific/Auckland:20260908T193000
DTEND;TZID=Pacific/Auckland:20260908T213000
DTSTAMP:20260422T143539
CREATED:20250918T061850Z
LAST-MODIFIED:20250918T061850Z
UID:10526-1788895800-1788903000@www.lutheran.org.nz
SUMMARY:Gateway Gift Trust Board
DESCRIPTION:GGTB meetings 2026 \nMeeting bi-monthly \nTeams (4) and Face to face (2) and AGM (1) \nAgenda\, papers and supporting documentation in SharePoint (for members only) \nCalendar invite and teams links in Outlook/teams (for members only) \nInvites to attend/present – please ask Chairperson Dennis Mollet
URL:https://www.lutheran.org.nz/event/gateway-gift-trust-board-5/
LOCATION:Teams meetings
ORGANIZER;CN="Dennis Mollet":MAILTO:dennis.mollet@lca.org.au
END:VEVENT
BEGIN:VEVENT
DTSTART;TZID=UTC:20261010T100000
DTEND;TZID=UTC:20261012T170000
DTSTAMP:20260422T143539
CREATED:20250918T055744Z
LAST-MODIFIED:20260320T010814Z
UID:10512-1791626400-1791824400@www.lutheran.org.nz
SUMMARY:LCNZ Council of Synod
DESCRIPTION:Date of this meeting to be confirmed \n  \nCoS meetings 2026 \nMeeting bi-monthly \nTeams (4) and Face to face (2) \nAgenda\, papers and supporting documentation in SharePoint (for members only) \nCalendar invite and teams links in Outlook/teams (for members only) \nInvites to attend/present – please ask Chairperson Rev Andy Marr
URL:https://www.lutheran.org.nz/event/lcnz-council-of-synod-4/
LOCATION:St Mathews Lutheran\, Hamilton\, 29 Abbotsford St\, Hamilton\, New Zealand
ORGANIZER;CN="Andrew Marr":MAILTO:andrew.marr@lca.org.au
END:VEVENT
BEGIN:VEVENT
DTSTART;TZID=Pacific/Auckland:20261110T190000
DTEND;TZID=Pacific/Auckland:20261110T193000
DTSTAMP:20260422T143539
CREATED:20250918T062042Z
LAST-MODIFIED:20250918T062042Z
UID:10528-1794337200-1794339000@www.lutheran.org.nz
SUMMARY:Gateway Gift Trust Board
DESCRIPTION:GGTB meetings 2026 \nMeeting bi-monthly \nTeams (4) and Face to face (2) and AGM (1) \nAgenda\, papers and supporting documentation in SharePoint (for members only) \nCalendar invite and teams links in Outlook/teams (for members only) \nInvites to attend/present – please ask Chairperson Dennis Mollet
URL:https://www.lutheran.org.nz/event/gateway-gift-trust-board-6/
LOCATION:Teams meetings
ORGANIZER;CN="Dennis Mollet":MAILTO:dennis.mollet@lca.org.au
END:VEVENT
BEGIN:VEVENT
DTSTART;TZID=Pacific/Auckland:20261208T190000
DTEND;TZID=Pacific/Auckland:20261208T213000
DTSTAMP:20260422T143539
CREATED:20250918T055922Z
LAST-MODIFIED:20250918T055922Z
UID:10515-1796756400-1796765400@www.lutheran.org.nz
SUMMARY:LCNZ Council of Synod
DESCRIPTION:CoS meetings 2026 \nMeeting bi-monthly \nTeams (4) and Face to face (2) \nAgenda\, papers and supporting documentation in SharePoint (for members only) \nCalendar invite and teams links in Outlook/teams (for members only) \nInvites to attend/present – please ask Chairperson Rev Andy Marr
URL:https://www.lutheran.org.nz/event/lcnz-council-of-synod-5/
LOCATION:Teams meetings
ORGANIZER;CN="Andrew Marr":MAILTO:andrew.marr@lca.org.au
END:VEVENT
END:VCALENDAR